BEGIN:VCALENDAR
VERSION:2.0
PRODID:-//SC District 6 AFG - ECPv6.15.18//NONSGML v1.0//EN
CALSCALE:GREGORIAN
METHOD:PUBLISH
X-ORIGINAL-URL:https://www.al-anon-lowcountry.org
X-WR-CALDESC:Events for SC District 6 AFG
REFRESH-INTERVAL;VALUE=DURATION:PT1H
X-Robots-Tag:noindex
X-PUBLISHED-TTL:PT1H
BEGIN:VTIMEZONE
TZID:America/New_York
BEGIN:DAYLIGHT
TZOFFSETFROM:-0500
TZOFFSETTO:-0400
TZNAME:EDT
DTSTART:20230312T070000
END:DAYLIGHT
BEGIN:STANDARD
TZOFFSETFROM:-0400
TZOFFSETTO:-0500
TZNAME:EST
DTSTART:20231105T060000
END:STANDARD
BEGIN:DAYLIGHT
TZOFFSETFROM:-0500
TZOFFSETTO:-0400
TZNAME:EDT
DTSTART:20240310T070000
END:DAYLIGHT
BEGIN:STANDARD
TZOFFSETFROM:-0400
TZOFFSETTO:-0500
TZNAME:EST
DTSTART:20241103T060000
END:STANDARD
BEGIN:DAYLIGHT
TZOFFSETFROM:-0500
TZOFFSETTO:-0400
TZNAME:EDT
DTSTART:20250309T070000
END:DAYLIGHT
BEGIN:STANDARD
TZOFFSETFROM:-0400
TZOFFSETTO:-0500
TZNAME:EST
DTSTART:20251102T060000
END:STANDARD
END:VTIMEZONE
BEGIN:VEVENT
DTSTART;TZID=America/New_York:20240101T180000
DTEND;TZID=America/New_York:20240101T190000
DTSTAMP:20260424T195632
CREATED:20231026T125105Z
LAST-MODIFIED:20231212T013907Z
UID:3926-1704132000-1704135600@www.al-anon-lowcountry.org
SUMMARY:First Monday Speaker Meeting
DESCRIPTION:Just For Today AFG will be hosting their first Monday of the month speaker meeting. Join them at 3080 Okatie Hwy. in Okatie\, SC at 6:00pm January 1st!
URL:https://www.al-anon-lowcountry.org/calendar/first-monday-speaker-meeting-jan-1-2024/
LOCATION:St Lukes Methodist Church in Okatie\, 3080 Okatie Hwy\, Okatie\, SC\, 29909\, United States
CATEGORIES:Speaker Meeting
END:VEVENT
BEGIN:VEVENT
DTSTART;TZID=America/New_York:20240113T100000
DTEND;TZID=America/New_York:20240113T130000
DTSTAMP:20260424T195632
CREATED:20231201T151435Z
LAST-MODIFIED:20231211T140217Z
UID:4057-1705140000-1705150800@www.al-anon-lowcountry.org
SUMMARY:District 6 Meeting (Jan. 2024)
DESCRIPTION:The District 6 meeting will be on January 13\, 2024. This meeting will be held online only.  \nYour GR or CMA should receive additional information for the time and how to connect to the meeting.
URL:https://www.al-anon-lowcountry.org/calendar/district-6-meeting-jan-2024/
LOCATION:Zoom
CATEGORIES:District Meeting
END:VEVENT
BEGIN:VEVENT
DTSTART;TZID=America/New_York:20240120T100000
DTEND;TZID=America/New_York:20240120T140000
DTSTAMP:20260424T195632
CREATED:20231201T152049Z
LAST-MODIFIED:20231211T140156Z
UID:4065-1705744800-1705759200@www.al-anon-lowcountry.org
SUMMARY:Area 50 Assembly (Jan. 2024)
DESCRIPTION:The Area Assembly for Area 50 will be on January 20\, 2024. This meeting will be HYBRID.  \nYour GR or CMA should receive additional information for location\, time and how to connect to the meeting if attending virtually.
URL:https://www.al-anon-lowcountry.org/calendar/area-50-assembly-jan-2024/
LOCATION:SC
CATEGORIES:Area Assembly
END:VEVENT
END:VCALENDAR