BEGIN:VCALENDAR
VERSION:2.0
PRODID:-//SC District 6 AFG - ECPv6.15.18//NONSGML v1.0//EN
CALSCALE:GREGORIAN
METHOD:PUBLISH
X-WR-CALNAME:SC District 6 AFG
X-ORIGINAL-URL:https://www.al-anon-lowcountry.org
X-WR-CALDESC:Events for SC District 6 AFG
REFRESH-INTERVAL;VALUE=DURATION:PT1H
X-Robots-Tag:noindex
X-PUBLISHED-TTL:PT1H
BEGIN:VTIMEZONE
TZID:America/New_York
BEGIN:DAYLIGHT
TZOFFSETFROM:-0500
TZOFFSETTO:-0400
TZNAME:EDT
DTSTART:20170312T070000
END:DAYLIGHT
BEGIN:STANDARD
TZOFFSETFROM:-0400
TZOFFSETTO:-0500
TZNAME:EST
DTSTART:20171105T060000
END:STANDARD
BEGIN:DAYLIGHT
TZOFFSETFROM:-0500
TZOFFSETTO:-0400
TZNAME:EDT
DTSTART:20180311T070000
END:DAYLIGHT
BEGIN:STANDARD
TZOFFSETFROM:-0400
TZOFFSETTO:-0500
TZNAME:EST
DTSTART:20181104T060000
END:STANDARD
BEGIN:DAYLIGHT
TZOFFSETFROM:-0500
TZOFFSETTO:-0400
TZNAME:EDT
DTSTART:20190310T070000
END:DAYLIGHT
BEGIN:STANDARD
TZOFFSETFROM:-0400
TZOFFSETTO:-0500
TZNAME:EST
DTSTART:20191103T060000
END:STANDARD
END:VTIMEZONE
BEGIN:VEVENT
DTSTART;TZID=America/New_York:20180126T150000
DTEND;TZID=America/New_York:20180128T120000
DTSTAMP:20260425T083933
CREATED:20180126T024626Z
LAST-MODIFIED:20180215T070525Z
UID:305-1516978800-1517140800@www.al-anon-lowcountry.org
SUMMARY:2018 Hilton Head Midwinter Conference
DESCRIPTION:The 38th Annual Hilton Head Midwinter Conference will be the 4th weekend of January. This is an AA Conference with Al-Anon participation including an Al-Anon speaker\, Al-Anon luncheon (limited space + additional cost) and an Al-Anon presentation/workshop.  \nRegistration opens at 3:00pm\, Friday January 26th with marathon meetings beginning at 4:00pm.  \nThe first AA speaker will be Friday January 26th at 8:30pm.  \nThe second AA speaker will be Saturday January 27th at 9:00am. \nThe Al-Anon speaker will be Saturday January 27th at 11:00am. \nThe Al-Anon workshop will be Saturday January 27th at 2:00pm in the Drayton Hall. An AA workshop will be taking place at the same time in the Grand Ballroom.  \nThe Sobriety Countdown and Saturday night AA speaker will be after the Banquet at 8:30pm  \nThe final AA speaker will be Sunday January 28th at 10:00am.  \nFor the full schedule look here.
URL:https://www.al-anon-lowcountry.org/calendar/2018-hilton-head-midwinter-conference/
LOCATION:Westin Hotel\, 2 Grasslawn Avenue\, Hilton Head Island\, 29928\, United States
END:VEVENT
END:VCALENDAR