BEGIN:VCALENDAR
VERSION:2.0
PRODID:-//SC District 6 AFG - ECPv6.15.18//NONSGML v1.0//EN
CALSCALE:GREGORIAN
METHOD:PUBLISH
X-WR-CALNAME:SC District 6 AFG
X-ORIGINAL-URL:https://www.al-anon-lowcountry.org
X-WR-CALDESC:Events for SC District 6 AFG
REFRESH-INTERVAL;VALUE=DURATION:PT1H
X-Robots-Tag:noindex
X-PUBLISHED-TTL:PT1H
BEGIN:VTIMEZONE
TZID:America/New_York
BEGIN:DAYLIGHT
TZOFFSETFROM:-0500
TZOFFSETTO:-0400
TZNAME:EDT
DTSTART:20170312T070000
END:DAYLIGHT
BEGIN:STANDARD
TZOFFSETFROM:-0400
TZOFFSETTO:-0500
TZNAME:EST
DTSTART:20171105T060000
END:STANDARD
BEGIN:DAYLIGHT
TZOFFSETFROM:-0500
TZOFFSETTO:-0400
TZNAME:EDT
DTSTART:20180311T070000
END:DAYLIGHT
BEGIN:STANDARD
TZOFFSETFROM:-0400
TZOFFSETTO:-0500
TZNAME:EST
DTSTART:20181104T060000
END:STANDARD
BEGIN:DAYLIGHT
TZOFFSETFROM:-0500
TZOFFSETTO:-0400
TZNAME:EDT
DTSTART:20190310T070000
END:DAYLIGHT
BEGIN:STANDARD
TZOFFSETFROM:-0400
TZOFFSETTO:-0500
TZNAME:EST
DTSTART:20191103T060000
END:STANDARD
BEGIN:DAYLIGHT
TZOFFSETFROM:-0500
TZOFFSETTO:-0400
TZNAME:EDT
DTSTART:20200308T070000
END:DAYLIGHT
BEGIN:STANDARD
TZOFFSETFROM:-0400
TZOFFSETTO:-0500
TZNAME:EST
DTSTART:20201101T060000
END:STANDARD
BEGIN:DAYLIGHT
TZOFFSETFROM:-0500
TZOFFSETTO:-0400
TZNAME:EDT
DTSTART:20210314T070000
END:DAYLIGHT
BEGIN:STANDARD
TZOFFSETFROM:-0400
TZOFFSETTO:-0500
TZNAME:EST
DTSTART:20211107T060000
END:STANDARD
END:VTIMEZONE
BEGIN:VEVENT
DTSTART;TZID=America/New_York:20200606T090000
DTEND;TZID=America/New_York:20200606T100000
DTSTAMP:20260423T195759
CREATED:20200106T074805Z
LAST-MODIFIED:20200601T041530Z
UID:963-1591434000-1591437600@www.al-anon-lowcountry.org
SUMMARY:ABC Bi-Monthly Meeting (June 2020)
DESCRIPTION:Al-Anon Beaufort County will be having our Bi-monthly business meeting on Zoom. The meeting will run from 10:00am til 11:00am like usual.  \nZoom ID: 889 8499 2752\nZoom PW: 421975 \nClick here to join.
URL:https://www.al-anon-lowcountry.org/calendar/abc-bi-monthly-meeting-june-2020/
LOCATION:Beaufort-Jasper Water & Sewer Authority\, 6 Snake Road\, Okatie\, SC\, 29909\, United States
CATEGORIES:ABC Quarterly Business Meeting
ORGANIZER;CN="Al-Anon Beaufort County":MAILTO:webmaster@al-anon-lowcountry.org
END:VEVENT
BEGIN:VEVENT
DTSTART;TZID=America/New_York:20200516T100000
DTEND;TZID=America/New_York:20200516T120000
DTSTAMP:20260423T195759
CREATED:20200223T001956Z
LAST-MODIFIED:20200512T034816Z
UID:1023-1589623200-1589630400@www.al-anon-lowcountry.org
SUMMARY:District 6 Meeting
DESCRIPTION:Update: April 1\, 2020 – This meeting is no longer a face to face meeting due to COVID-19. \nUpdate: May\, 11\, 2020 – This meeting appears to be cancelled all together.
URL:https://www.al-anon-lowcountry.org/calendar/district-6-meeting-2/
LOCATION:Beaufort Fire Station\, 135 Ribaut Road\, Beaufort\, SC\, 29902\, United States
CATEGORIES:District Meeting
END:VEVENT
BEGIN:VEVENT
DTSTART;TZID=America/New_York:20200404T100000
DTEND;TZID=America/New_York:20200404T110000
DTSTAMP:20260423T195759
CREATED:20200106T074709Z
LAST-MODIFIED:20200326T114347Z
UID:961-1585994400-1585998000@www.al-anon-lowcountry.org
SUMMARY:ABC Bi-Monthly Meeting (April 2020)
DESCRIPTION:Due to COVID-19\, this meeting will be held on Zoom.  \nMeeting ID 323-510-736\nPassword 123458\nJoin URL: https://us04web.zoom.us/j/323510736
URL:https://www.al-anon-lowcountry.org/calendar/abc-bi-monthly-meeting-april-2020/
LOCATION:Beaufort-Jasper Water & Sewer Authority\, 6 Snake Road\, Okatie\, SC\, 29909\, United States
CATEGORIES:ABC Quarterly Business Meeting
ORGANIZER;CN="Al-Anon Beaufort County":MAILTO:webmaster@al-anon-lowcountry.org
END:VEVENT
BEGIN:VEVENT
DTSTART;TZID=America/New_York:20200208T173000
DTEND;TZID=America/New_York:20200208T190000
DTSTAMP:20260423T195759
CREATED:20200113T064134Z
LAST-MODIFIED:20200113T064134Z
UID:992-1581183000-1581188400@www.al-anon-lowcountry.org
SUMMARY:In Step 4th Anniversary "Fiesta" Potluck & Speaker
DESCRIPTION:Come join In Step AFG celebrate their 4th Anniversary on February 8\, 2020 at the YANA Club on Hilton Head Island.  \nOur Tex/Mex themed potluck fiesta will begin at 5:30pm and a speaker will follow at 6:00pm  \nWe ask attendees to bring a dish to share in the Tex/Mex theme.
URL:https://www.al-anon-lowcountry.org/calendar/in-step-4th-anniversary-fiesta-potluck-speaker/
LOCATION:YANA Club\, 107 Mathews Drive\, Hilton Head Island\, SC\, 29926\, United States
CATEGORIES:Potluck & Speaker Meeting
END:VEVENT
BEGIN:VEVENT
DTSTART;TZID=America/New_York:20200206T140000
DTEND;TZID=America/New_York:20200209T140000
DTSTAMP:20260423T195759
CREATED:20200113T055135Z
LAST-MODIFIED:20200113T063631Z
UID:982-1580997600-1581256800@www.al-anon-lowcountry.org
SUMMARY:SC AFG 45th Al-Anon/Alateen Convention
DESCRIPTION:The South Carolina AFG 45th Al-Anon/Alateen Convention is happening Thurs\, February 6 – Sun\, February 9 in Greenville\, South Carolina.  \nFor more details\, check out the official South Carolina Al-Anon/Alateen site!
URL:https://www.al-anon-lowcountry.org/calendar/sc-afg-45th-al-anon-alateen-convention/
LOCATION:Hilton Greenville\, 45 West Orchard Park Drive\, Greenville\, 29615\, United States
CATEGORIES:Conventions
END:VEVENT
BEGIN:VEVENT
DTSTART;TZID=America/New_York:20200201T100000
DTEND;TZID=America/New_York:20200201T160000
DTSTAMP:20260423T195759
CREATED:20200107T113159Z
LAST-MODIFIED:20200107T113357Z
UID:971-1580551200-1580572800@www.al-anon-lowcountry.org
SUMMARY:SC Area Assembly
DESCRIPTION:All SC Area Assemblies will be held at Columbia Metropolitan Convention Center at 1101\, Lincoln St.\, Columbia\, SC starting at 10:00am.
URL:https://www.al-anon-lowcountry.org/calendar/sc-area-assembly/
LOCATION:Columbia Metropolitan Convention Center\, 1101 Lincoln Street\, Columbia\, SC\, 29201\, United States
CATEGORIES:Area Assembly
END:VEVENT
BEGIN:VEVENT
DTSTART;TZID=America/New_York:20200201T100000
DTEND;TZID=America/New_York:20200201T110000
DTSTAMP:20260423T195759
CREATED:20200106T074614Z
LAST-MODIFIED:20200106T075018Z
UID:959-1580551200-1580554800@www.al-anon-lowcountry.org
SUMMARY:ABC Bi-Monthly Meeting (February 2020)
DESCRIPTION:Al-Anon Beaufort County will be having our Bi-monthly business meeting.
URL:https://www.al-anon-lowcountry.org/calendar/abc-bi-monthly-meeting-february-2020/
LOCATION:Beaufort-Jasper Water & Sewer Authority\, 6 Snake Road\, Okatie\, SC\, 29909\, United States
CATEGORIES:ABC Quarterly Business Meeting
END:VEVENT
BEGIN:VEVENT
DTSTART;TZID=America/New_York:20200125T100000
DTEND;TZID=America/New_York:20200125T120000
DTSTAMP:20260423T195759
CREATED:20200116T003915Z
LAST-MODIFIED:20200116T042201Z
UID:1004-1579946400-1579953600@www.al-anon-lowcountry.org
SUMMARY:District 6 Meeting
DESCRIPTION:The District Meeting originally scheduled for this Saturday\, Jan. 18th\, has been changed to Saturday\, Jan. 25\, at 10AM at the Beaufort Fire Station\, 135 Ribaut Rd.
URL:https://www.al-anon-lowcountry.org/calendar/district-6-meeting/
LOCATION:Beaufort Fire Station\, 135 Ribaut Road\, Beaufort\, SC\, 29902\, United States
CATEGORIES:District Meeting
END:VEVENT
BEGIN:VEVENT
DTSTART;TZID=America/New_York:20191230T113000
DTEND;TZID=America/New_York:20191230T130000
DTSTAMP:20260423T195759
CREATED:20191117T003042Z
LAST-MODIFIED:20190317T021112Z
UID:735-1577705400-1577710800@www.al-anon-lowcountry.org
SUMMARY:5th Monday Speaker Meeting & Potluck
DESCRIPTION:The Lunch with Lois AFG will be hosting their fifth Monday potluck and speaker meeting on December 30th. It will take place at the Church of the Palms in Okatie located at 1425 Okatie Highway.  \nBring your best dish to share and enjoy a speaker sharing their story story with us!
URL:https://www.al-anon-lowcountry.org/calendar/5th-monday-speaker-meeting-potluck-4/
LOCATION:Church of the Palms\, 1425 Okatie Highway\, Okatie\, 29929\, United States
CATEGORIES:Potluck & Speaker Meeting
END:VEVENT
BEGIN:VEVENT
DTSTART;TZID=America/New_York:20191229T180000
DTEND;TZID=America/New_York:20191229T193000
DTSTAMP:20260423T195759
CREATED:20191130T235530Z
LAST-MODIFIED:20191222T151255Z
UID:722-1577642400-1577647800@www.al-anon-lowcountry.org
SUMMARY:5th Sunday Potluck & Speaker
DESCRIPTION:The Principles Above Personalities AFG will be hosting their fifth Sunday potluck and speaker meeting on December 29th. It will take place at the YANA Club on Hilton Head Island located at 107 Mathews Drive. The event will be held in the large meeting room. \nDinner is at 6:00 p.m.\, please bring a dish to share and the speaker meeting will begin at 6:30 p.m. with a speaker sharing their story story with us.
URL:https://www.al-anon-lowcountry.org/calendar/5th-sunday-potluck-speaker-4/
LOCATION:YANA Club\, 107 Mathews Drive\, Hilton Head Island\, SC\, 29926\, United States
CATEGORIES:Potluck & Speaker Meeting
END:VEVENT
BEGIN:VEVENT
DTSTART;TZID=America/New_York:20191207T100000
DTEND;TZID=America/New_York:20191207T110000
DTSTAMP:20260423T195759
CREATED:20190316T235057Z
LAST-MODIFIED:20190316T235057Z
UID:746-1575712800-1575716400@www.al-anon-lowcountry.org
SUMMARY:ABC Bi-Monthly Meeting (December 2019)
DESCRIPTION:Al-Anon Beaufort County will be having our Bi-monthly business meeting.
URL:https://www.al-anon-lowcountry.org/calendar/abc-bi-monthly-meeting-december-2019/
LOCATION:Beaufort-Jasper Water & Sewer Authority\, 6 Snake Road\, Okatie\, SC\, 29909\, United States
CATEGORIES:ABC Quarterly Business Meeting
ORGANIZER;CN="Al-Anon Beaufort County":MAILTO:webmaster@al-anon-lowcountry.org
END:VEVENT
BEGIN:VEVENT
DTSTART;TZID=America/New_York:20191005T100000
DTEND;TZID=America/New_York:20191005T110000
DTSTAMP:20260423T195759
CREATED:20190316T235003Z
LAST-MODIFIED:20190316T235131Z
UID:744-1570269600-1570273200@www.al-anon-lowcountry.org
SUMMARY:ABC Bi-Monthly Meeting (October 2019)
DESCRIPTION:Al-Anon Beaufort County will be having our Bi-monthly business meeting.
URL:https://www.al-anon-lowcountry.org/calendar/abc-bi-monthly-meeting-october-2019/
LOCATION:Beaufort-Jasper Water & Sewer Authority\, 6 Snake Road\, Okatie\, SC\, 29909\, United States
CATEGORIES:ABC Quarterly Business Meeting
ORGANIZER;CN="Al-Anon Beaufort County":MAILTO:webmaster@al-anon-lowcountry.org
END:VEVENT
BEGIN:VEVENT
DTSTART;TZID=America/New_York:20190929T180000
DTEND;TZID=America/New_York:20190929T193000
DTSTAMP:20260423T195759
CREATED:20190901T225337Z
LAST-MODIFIED:20190316T225803Z
UID:720-1569780000-1569785400@www.al-anon-lowcountry.org
SUMMARY:5th Sunday Potluck & Speaker
DESCRIPTION:The Principles Above Personalities AFG will be hosting their fifth Sunday potluck and speaker meeting on September 29th. It will take place at the YANA Club on Hilton Head Island located at 107 Mathews Drive. The event will be held in the large meeting room. \nDinner is at 6:00 p.m.\, please bring a dish to share and the speaker meeting will begin at 6:30 p.m. with a speaker sharing their story story with us.
URL:https://www.al-anon-lowcountry.org/calendar/5th-sunday-potluck-speaker-3/
LOCATION:YANA Club\, 107 Mathews Drive\, Hilton Head Island\, SC\, 29926\, United States
CATEGORIES:Potluck & Speaker Meeting
END:VEVENT
BEGIN:VEVENT
DTSTART;VALUE=DATE:20190907
DTEND;VALUE=DATE:20190908
DTSTAMP:20260423T195759
CREATED:20190701T205238Z
LAST-MODIFIED:20190319T205432Z
UID:775-1567814400-1567900799@www.al-anon-lowcountry.org
SUMMARY:AWSC (September 2019)
DESCRIPTION:The Area World Service Committee meets September 4th at The Peanut Man on 3905 Fernandina Road\, Columbia\, SC 29210 \nPlease check back for time information.  \nThis meeting is for Area Officers\, District Representatives and Committee Coordinators.
URL:https://www.al-anon-lowcountry.org/calendar/awsc-september-2019/
CATEGORIES:AWSC Meeting
END:VEVENT
BEGIN:VEVENT
DTSTART;TZID=America/New_York:20190803T080000
DTEND;TZID=America/New_York:20190803T170000
DTSTAMP:20260423T195759
CREATED:20190316T234908Z
LAST-MODIFIED:20190316T235138Z
UID:742-1564819200-1564851600@www.al-anon-lowcountry.org
SUMMARY:ABC Bi-Monthly Meeting (August 2019)
DESCRIPTION:Al-Anon Beaufort County will be having our Bi-monthly business meeting.
URL:https://www.al-anon-lowcountry.org/calendar/abc-bi-monthly-meeting-august-2019/
LOCATION:Beaufort-Jasper Water & Sewer Authority\, 6 Snake Road\, Okatie\, SC\, 29909\, United States
CATEGORIES:ABC Quarterly Business Meeting
ORGANIZER;CN="Al-Anon Beaufort County":MAILTO:webmaster@al-anon-lowcountry.org
END:VEVENT
BEGIN:VEVENT
DTSTART;TZID=America/New_York:20190729T113000
DTEND;TZID=America/New_York:20190729T130000
DTSTAMP:20260423T195759
CREATED:20190616T232640Z
LAST-MODIFIED:20190317T021116Z
UID:730-1564399800-1564405200@www.al-anon-lowcountry.org
SUMMARY:5th Monday Speaker Meeting & Potluck
DESCRIPTION:The Lunch with Lois AFG will be hosting their Monday potluck and speaker meeting on July 29th. It will take place at the Church of the Palms in Okatie located at 1425 Okatie Highway.  \nBring your best dish to share and enjoy a speaker sharing their story story with us!
URL:https://www.al-anon-lowcountry.org/calendar/5th-monday-speaker-meeting-potluck-2/
LOCATION:Church of the Palms\, 1425 Okatie Highway\, Okatie\, 29929\, United States
CATEGORIES:Potluck & Speaker Meeting
END:VEVENT
BEGIN:VEVENT
DTSTART;TZID=America/New_York:20190630T180000
DTEND;TZID=America/New_York:20190630T193000
DTSTAMP:20260423T195759
CREATED:20190601T225034Z
LAST-MODIFIED:20190316T233345Z
UID:716-1561917600-1561923000@www.al-anon-lowcountry.org
SUMMARY:5th Sunday Potluck & Speaker
DESCRIPTION:The Principles Above Personalities AFG will be hosting their fifth Sunday potluck and speaker meeting on June 30th. It will take place at the YANA Club on Hilton Head Island located at 107 Mathews Drive. The event will be held in the large meeting room. \nDinner is at 6:00 p.m.\, please bring a dish to share and the speaker meeting will begin at 6:30 p.m. with a speaker sharing their story story with us.
URL:https://www.al-anon-lowcountry.org/calendar/5th-sunday-potluck-speaker-2/
LOCATION:YANA Club\, 107 Mathews Drive\, Hilton Head Island\, SC\, 29926\, United States
CATEGORIES:Potluck & Speaker Meeting
END:VEVENT
BEGIN:VEVENT
DTSTART;TZID=America/New_York:20190602T123000
DTEND;TZID=America/New_York:20190602T160000
DTSTAMP:20260423T195759
CREATED:20190411T032319Z
LAST-MODIFIED:20190421T133839Z
UID:791-1559478600-1559491200@www.al-anon-lowcountry.org
SUMMARY:Al-Anon Beaufort County Spring Fling
DESCRIPTION:Al-Anon Beaufort County will be hosting the Al-Anon Beaufort County Spring Fling! Al-Anon members and their family & friends are invited to a picnic in the park @ Jarvis Creek Park on beautiful Hilton Head Island! \n \nHot Dogs and drinks will be provided. Please bring a dish to share!  \nFor more information about the venue\, please click here.
URL:https://www.al-anon-lowcountry.org/calendar/al-anon-beaufort-county-spring-fling/
LOCATION:Jarvis Creek Park\, 100 Jarvis Creek Road\, Hilton Head Island\, SC\, 29926\, United States
CATEGORIES:Fun Fellowship
ORGANIZER;CN="Al-Anon Beaufort County":MAILTO:webmaster@al-anon-lowcountry.org
END:VEVENT
BEGIN:VEVENT
DTSTART;TZID=America/New_York:20190601T100000
DTEND;TZID=America/New_York:20190601T110000
DTSTAMP:20260423T195759
CREATED:20190316T234806Z
LAST-MODIFIED:20200106T074427Z
UID:740-1559383200-1559386800@www.al-anon-lowcountry.org
SUMMARY:ABC Bi-Monthly Meeting (June 2019)
DESCRIPTION:Al-Anon Beaufort County will be having our Bi-monthly business meeting.
URL:https://www.al-anon-lowcountry.org/calendar/abc-bi-monthly-meeting-june-2019/
LOCATION:Beaufort-Jasper Water & Sewer Authority\, 6 Snake Road\, Okatie\, SC\, 29909\, United States
CATEGORIES:ABC Quarterly Business Meeting
ORGANIZER;CN="Al-Anon Beaufort County":MAILTO:webmaster@al-anon-lowcountry.org
END:VEVENT
BEGIN:VEVENT
DTSTART;VALUE=DATE:20190504
DTEND;VALUE=DATE:20190505
DTSTAMP:20260423T195759
CREATED:20190319T205012Z
LAST-MODIFIED:20190319T205012Z
UID:771-1556928000-1557014399@www.al-anon-lowcountry.org
SUMMARY:AWSC (May 2019)
DESCRIPTION:The Area World Service Committee meets May 4th at The Peanut Man on 3905 Fernandina Road\, Columbia\, SC 29210 \nPlease check back for time information.  \nThis meeting is for Area Officers\, District Representatives and Committee Coordinators.
URL:https://www.al-anon-lowcountry.org/calendar/awsc-may-2019/
CATEGORIES:AWSC Meeting
END:VEVENT
BEGIN:VEVENT
DTSTART;TZID=America/New_York:20190430T174500
DTEND;TZID=America/New_York:20190430T191500
DTSTAMP:20260423T195759
CREATED:20190411T030916Z
LAST-MODIFIED:20190411T030916Z
UID:789-1556646300-1556651700@www.al-anon-lowcountry.org
SUMMARY:GirlFriends in Recovery AFG 2nd Anniversary Celebration
DESCRIPTION:Come celebrate GirlFriends in Recovery AFG’s 2nd Anniversary with them! Friends and family are welcome!  \nThe Potluck will begin @ 5:45pm\, please bring your favorite dish to share! At 6:15pm the speaker meeting starts with Michelle from Sun City sharing her experience\, strength and hope!  \nThe celebration takes place at Building 6\, Room 104 at The Technical College of the Lowcountry located at 921 Ribaut Road in Beaufort\, SC.
URL:https://www.al-anon-lowcountry.org/calendar/girlfriends-in-recovery-afg-2nd-anniversary-celebration/
LOCATION:Technical College of the Lowcountry\, 921 Ribaut Road Bldg 12\, Beaufort\, SC\, 29901\, United States
CATEGORIES:Group Anniversary
END:VEVENT
BEGIN:VEVENT
DTSTART;TZID=America/New_York:20190429T113000
DTEND;TZID=America/New_York:20190429T130000
DTSTAMP:20260423T195759
CREATED:20190316T232609Z
LAST-MODIFIED:20190317T021121Z
UID:726-1556537400-1556542800@www.al-anon-lowcountry.org
SUMMARY:5th Monday Speaker Meeting & Potluck
DESCRIPTION:The Lunch with Lois AFG will be hosting their very first fifth Monday potluck and speaker meeting on April 29th. It will take place at the Church of the Palms in Okatie located at 1425 Okatie Highway.  \nBring your best dish to share and enjoy a speaker sharing their story story with us!
URL:https://www.al-anon-lowcountry.org/calendar/5th-monday-speaker-meeting-potluck/
LOCATION:Church of the Palms\, 1425 Okatie Highway\, Okatie\, 29929\, United States
CATEGORIES:Potluck & Speaker Meeting
END:VEVENT
BEGIN:VEVENT
DTSTART;TZID=America/New_York:20190406T100000
DTEND;TZID=America/New_York:20190406T110000
DTSTAMP:20260423T195759
CREATED:20190316T234652Z
LAST-MODIFIED:20190316T234652Z
UID:738-1554544800-1554548400@www.al-anon-lowcountry.org
SUMMARY:ABC Bi-Monthly Meeting (April 2019)
DESCRIPTION:Al-Anon Beaufort County will be having our Bi-monthly business meeting.
URL:https://www.al-anon-lowcountry.org/calendar/abc-bi-monthly-business-meeting-april-2019/
LOCATION:Beaufort-Jasper Water & Sewer Authority\, 6 Snake Road\, Okatie\, SC\, 29909\, United States
CATEGORIES:ABC Quarterly Business Meeting
ORGANIZER;CN="Al-Anon Beaufort County":MAILTO:webmaster@al-anon-lowcountry.org
END:VEVENT
BEGIN:VEVENT
DTSTART;TZID=America/New_York:20190331T180000
DTEND;TZID=America/New_York:20190331T193000
DTSTAMP:20260423T195759
CREATED:20190316T224127Z
LAST-MODIFIED:20190316T230224Z
UID:708-1554055200-1554060600@www.al-anon-lowcountry.org
SUMMARY:5th Sunday Potluck & Speaker
DESCRIPTION:The Principles Above Personalities AFG will be hosting their fifth Sunday potluck and speaker meeting on March 31st. It will take place at the YANA Club on Hilton Head Island located at 107 Mathews Drive. The event will be held in the large meeting room. \nDinner is at 6:00 p.m.\, please bring a dish to share and the speaker meeting will begin at 6:30 p.m. with Martha G. sharing her story with us.
URL:https://www.al-anon-lowcountry.org/calendar/5th-sunday-potluck-speaker-1/
LOCATION:YANA Club\, 107 Mathews Drive\, Hilton Head Island\, SC\, 29926\, United States
CATEGORIES:Potluck & Speaker Meeting
END:VEVENT
BEGIN:VEVENT
DTSTART;TZID=America/New_York:20190202T100000
DTEND;TZID=America/New_York:20190202T110000
DTSTAMP:20260423T195759
CREATED:20190102T005205Z
LAST-MODIFIED:20190316T235310Z
UID:748-1549101600-1549105200@www.al-anon-lowcountry.org
SUMMARY:ABC Bi-Monthly Meeting (February 2019)
DESCRIPTION:Al-Anon Beaufort County will be having our Bi-monthly business meeting.
URL:https://www.al-anon-lowcountry.org/calendar/abc-bi-monthly-meeting-february-2019/
LOCATION:Beaufort-Jasper Water & Sewer Authority\, 6 Snake Road\, Okatie\, SC\, 29909\, United States
CATEGORIES:ABC Quarterly Business Meeting
ORGANIZER;CN="Al-Anon Beaufort County":MAILTO:webmaster@al-anon-lowcountry.org
END:VEVENT
BEGIN:VEVENT
DTSTART;TZID=America/New_York:20190125T150000
DTEND;TZID=America/New_York:20190127T113000
DTSTAMP:20260423T195759
CREATED:20190125T153749Z
LAST-MODIFIED:20190125T153749Z
UID:693-1548428400-1548588600@www.al-anon-lowcountry.org
SUMMARY:39th Annual Hilton Head Midwinter Conference
DESCRIPTION:2019 (39th) Hilton Head Midwinter Conference \nJanuary 25\, 2019 – January 27\, 2019 \nThis is an AA Conference with lots of Al-Anon fellowship as well! Highlights for Al-Anon members include (but certainly not limited to!): \nAl-Anon Meet & Greet\nFriday\, 4:00-6:00\, Drayton Room \nAl-Anon Speaker Meeting\, Beverly B.\nSaturday\, 11:00 – 12:00\, Grand Ballroom \nAl-Anon Luncheon\nSaturday\, 12:30 – 1:30\, Daufuskie Room\nJoin Al-Anon speaker\, Beverly B. and enjoy lunch and fellowship in the Daufuskie Room. $20 / person (includes tax and gratuity). Pay at luncheon. You must sign up at the Al-Anon Welcome Table in order to secure a seat for this event. Limited to the first 40 individuals.  \nAl-Anon Workshop\nSaturday\, 2:00 – 3:30\, Drayton Room\nTheme: Transforming Our Lives through the Twelve Steps\nFour panel speakers will share how the Twelve Steps have transformed their lives which will be followed by an open discussion.  \nSpeakers\nGeorgia B.\, La Cresenta\, CA\nDon L.\, Bellingham\, WA\n(Al-Anon) Beverly B.\, Lewisville\, TX\nKarl M.\, Covina\, CA\nLillie H.\, So. Portland\, ME \nFor a full schedule of Conference events\, check out the official schedule.
URL:https://www.al-anon-lowcountry.org/calendar/39th-annual-hilton-head-midwinter-conference/
LOCATION:Westin Hotel\, 2 Grasslawn Avenue\, Hilton Head Island\, 29928\, United States
END:VEVENT
BEGIN:VEVENT
DTSTART;TZID=America/New_York:20181201T100000
DTEND;TZID=America/New_York:20181201T110000
DTSTAMP:20260423T195759
CREATED:20180215T052423Z
LAST-MODIFIED:20180215T070401Z
UID:394-1543658400-1543662000@www.al-anon-lowcountry.org
SUMMARY:ABC Bi-Monthly Meeting (December 2018)
DESCRIPTION:Al-Anon Beaufort County will be having our Bi-monthly business meeting.
URL:https://www.al-anon-lowcountry.org/calendar/abc-bi-monthly-meeting-december-2018/
LOCATION:Beaufort-Jasper Water & Sewer Authority\, 6 Snake Road\, Okatie\, SC\, 29909\, United States
ORGANIZER;CN="Al-Anon Beaufort County":MAILTO:webmaster@al-anon-lowcountry.org
END:VEVENT
BEGIN:VEVENT
DTSTART;TZID=America/New_York:20181013T100000
DTEND;TZID=America/New_York:20181013T110000
DTSTAMP:20260423T195759
CREATED:20180215T052202Z
LAST-MODIFIED:20180215T070419Z
UID:392-1539424800-1539428400@www.al-anon-lowcountry.org
SUMMARY:ABC Bi-Monthly Meeting (October 2018)
DESCRIPTION:Al-Anon Beaufort County will be having our Bi-monthly business meeting.
URL:https://www.al-anon-lowcountry.org/calendar/abc-bi-monthly-meeting-october/
LOCATION:Beaufort-Jasper Water & Sewer Authority\, 6 Snake Road\, Okatie\, SC\, 29909\, United States
ORGANIZER;CN="Al-Anon Beaufort County":MAILTO:webmaster@al-anon-lowcountry.org
END:VEVENT
BEGIN:VEVENT
DTSTART;TZID=America/New_York:20180804T100000
DTEND;TZID=America/New_York:20180804T110000
DTSTAMP:20260423T195759
CREATED:20180215T051912Z
LAST-MODIFIED:20180215T070427Z
UID:390-1533376800-1533380400@www.al-anon-lowcountry.org
SUMMARY:ABC Bi-Monthly Meeting (August 2018)
DESCRIPTION:Al-Anon Beaufort County will be having our Bi-monthly business meeting.
URL:https://www.al-anon-lowcountry.org/calendar/abc-bi-monthly-meeting-august/
LOCATION:Beaufort-Jasper Water & Sewer Authority\, 6 Snake Road\, Okatie\, SC\, 29909\, United States
ORGANIZER;CN="Al-Anon Beaufort County":MAILTO:webmaster@al-anon-lowcountry.org
END:VEVENT
BEGIN:VEVENT
DTSTART;TZID=America/New_York:20180729T180000
DTEND;TZID=America/New_York:20180729T193000
DTSTAMP:20260423T195759
CREATED:20180723T002752Z
LAST-MODIFIED:20180723T002752Z
UID:641-1532887200-1532892600@www.al-anon-lowcountry.org
SUMMARY:5th Sunday Potluck & Speaker
DESCRIPTION:The Principles Above Personalities AFG will be hosting their fifth Sunday potluck and speaker meeting on July 29th. \nDinner is at 6:00 p.m.\, please bring a dish to share and the speaker meeting will begin at 6:30 p.m. with Bill A. sharing his story with us.
URL:https://www.al-anon-lowcountry.org/calendar/5th-sunday-potluck-speaker/
LOCATION:YANA Club\, 107 Mathews Drive\, Hilton Head Island\, SC\, 29926\, United States
END:VEVENT
END:VCALENDAR