BEGIN:VCALENDAR
VERSION:2.0
PRODID:-//SC District 6 AFG - ECPv6.15.18//NONSGML v1.0//EN
CALSCALE:GREGORIAN
METHOD:PUBLISH
X-WR-CALNAME:SC District 6 AFG
X-ORIGINAL-URL:https://www.al-anon-lowcountry.org
X-WR-CALDESC:Events for SC District 6 AFG
REFRESH-INTERVAL;VALUE=DURATION:PT1H
X-Robots-Tag:noindex
X-PUBLISHED-TTL:PT1H
BEGIN:VTIMEZONE
TZID:America/New_York
BEGIN:DAYLIGHT
TZOFFSETFROM:-0500
TZOFFSETTO:-0400
TZNAME:EDT
DTSTART:20190310T070000
END:DAYLIGHT
BEGIN:STANDARD
TZOFFSETFROM:-0400
TZOFFSETTO:-0500
TZNAME:EST
DTSTART:20191103T060000
END:STANDARD
BEGIN:DAYLIGHT
TZOFFSETFROM:-0500
TZOFFSETTO:-0400
TZNAME:EDT
DTSTART:20200308T070000
END:DAYLIGHT
BEGIN:STANDARD
TZOFFSETFROM:-0400
TZOFFSETTO:-0500
TZNAME:EST
DTSTART:20201101T060000
END:STANDARD
BEGIN:DAYLIGHT
TZOFFSETFROM:-0500
TZOFFSETTO:-0400
TZNAME:EDT
DTSTART:20210314T070000
END:DAYLIGHT
BEGIN:STANDARD
TZOFFSETFROM:-0400
TZOFFSETTO:-0500
TZNAME:EST
DTSTART:20211107T060000
END:STANDARD
BEGIN:DAYLIGHT
TZOFFSETFROM:-0500
TZOFFSETTO:-0400
TZNAME:EDT
DTSTART:20220313T070000
END:DAYLIGHT
BEGIN:STANDARD
TZOFFSETFROM:-0400
TZOFFSETTO:-0500
TZNAME:EST
DTSTART:20221106T060000
END:STANDARD
BEGIN:DAYLIGHT
TZOFFSETFROM:-0500
TZOFFSETTO:-0400
TZNAME:EDT
DTSTART:20230312T070000
END:DAYLIGHT
BEGIN:STANDARD
TZOFFSETFROM:-0400
TZOFFSETTO:-0500
TZNAME:EST
DTSTART:20231105T060000
END:STANDARD
BEGIN:DAYLIGHT
TZOFFSETFROM:-0500
TZOFFSETTO:-0400
TZNAME:EDT
DTSTART:20240310T070000
END:DAYLIGHT
BEGIN:STANDARD
TZOFFSETFROM:-0400
TZOFFSETTO:-0500
TZNAME:EST
DTSTART:20241103T060000
END:STANDARD
END:VTIMEZONE
BEGIN:VEVENT
DTSTART;TZID=America/New_York:20231202T100000
DTEND;TZID=America/New_York:20231202T110000
DTSTAMP:20260423T200715
CREATED:20230131T142702Z
LAST-MODIFIED:20231201T152729Z
UID:3676-1701511200-1701514800@www.al-anon-lowcountry.org
SUMMARY:ABC Bi-monthly Meeting (Dec. 2023) - Elections for Rotation of Service
DESCRIPTION:Al-Anon Beaufort County will be having our Bi-monthly business meeting on Zoom. THIS MEETING WILL CONTAIN THE ELECTION FOR ROTATION OF SERVICE! \nZoom ID: 869 0028 6587\nPasscode: 987123\nLink
URL:https://www.al-anon-lowcountry.org/calendar/abc-bi-monthly-meeting-dec-2023/
CATEGORIES:ABC Quarterly Business Meeting
ORGANIZER;CN="Al-Anon Beaufort County":MAILTO:webmaster@al-anon-lowcountry.org
END:VEVENT
BEGIN:VEVENT
DTSTART;TZID=America/New_York:20231029T180000
DTEND;TZID=America/New_York:20231029T193000
DTSTAMP:20260423T200715
CREATED:20231027T003302Z
LAST-MODIFIED:20231201T152735Z
UID:3970-1698602400-1698607800@www.al-anon-lowcountry.org
SUMMARY:Fifth Sunday Potluck & Speaker
DESCRIPTION:Join Principles Above Personalities AFG as they host their 5th Sunday Potluck and Speaker Meeting on October 29\, 2023 at the YANA Club on Hilton Head Island located at 107 Mathews Drive. \nPotluck begins at 6:00pm\, bring a dish to share. Speaker meeting starts at 6:30pm.
URL:https://www.al-anon-lowcountry.org/calendar/fifth-sunday-potluck-speaker/
LOCATION:YANA Club\, 107 Mathews Drive\, Hilton Head Island\, SC\, 29926\, United States
CATEGORIES:Potluck & Speaker Meeting
END:VEVENT
BEGIN:VEVENT
DTSTART;TZID=America/New_York:20231007T100000
DTEND;TZID=America/New_York:20231007T110000
DTSTAMP:20260423T200715
CREATED:20230131T142502Z
LAST-MODIFIED:20230131T142502Z
UID:3674-1696672800-1696676400@www.al-anon-lowcountry.org
SUMMARY:ABC Bi-monthly Meeting (Oct. 2023)
DESCRIPTION:Al-Anon Beaufort County will be having our Bi-monthly business meeting on Zoom. \nZoom ID: 869 0028 6587\nPasscode: 987123\nLink
URL:https://www.al-anon-lowcountry.org/calendar/abc-bi-monthly-meeting-oct-2023/
CATEGORIES:ABC Quarterly Business Meeting
ORGANIZER;CN="Al-Anon Beaufort County":MAILTO:webmaster@al-anon-lowcountry.org
END:VEVENT
BEGIN:VEVENT
DTSTART;TZID=America/New_York:20230805T100000
DTEND;TZID=America/New_York:20230805T110000
DTSTAMP:20260423T200715
CREATED:20230131T142338Z
LAST-MODIFIED:20230131T142338Z
UID:3672-1691229600-1691233200@www.al-anon-lowcountry.org
SUMMARY:ABC Bi-monthly Meeting (Aug. 2023)
DESCRIPTION:Al-Anon Beaufort County will be having our Bi-monthly business meeting on Zoom. \nZoom ID: 869 0028 6587\nPasscode: 987123\nLink
URL:https://www.al-anon-lowcountry.org/calendar/abc-bi-monthly-meeting-aug-2023/
CATEGORIES:ABC Quarterly Business Meeting
ORGANIZER;CN="Al-Anon Beaufort County":MAILTO:webmaster@al-anon-lowcountry.org
END:VEVENT
BEGIN:VEVENT
DTSTART;TZID=America/New_York:20230629T150000
DTEND;TZID=America/New_York:20230702T120000
DTSTAMP:20260423T200715
CREATED:20230131T221033Z
LAST-MODIFIED:20230131T221033Z
UID:3694-1688050800-1688299200@www.al-anon-lowcountry.org
SUMMARY:2023 Al-Anon International Convention
DESCRIPTION:The 2023 International Convention will be held on\nJune 29 – July 2\, 2023 \nat the Albuquerque Convention Center in Albuquerque\, NM \nWe are excited to announce that registration for the 2023 Al‑Anon International Convention is open! \nWhile it is possible to register safely and securely using a smart device (smartphone or tablet)\, the user experience is not optimal. So\, for best results\, we recommend using a laptop/desktop computer. We ask that you share this with other members. \nThe registration fees are as follows: \nPrior to January 11\, 2023–$175 US\nPrior to May 10\, 2023–$200 US\nAfter May 10\, 2023–$225 US\nIf paying by credit card\, you will receive two emails: \nPayment receipt\nRegistration Confirmation and link to the housing reservation site.\nThe Housing Link included in your Registration Confirmation email will start with https book passkey com/entry/xxxxxxxxxxxxxxx \nThis link is custom and can only be used by you. \nIf paying by check\, you will receive an email with payment instructions. Once your payment has been received and posted\, you will receive your Registration Confirmation email containing the link to the housing reservation site. \nThis registration includes access to the following events: \nThe Party in the Plaza (Thursday night)\nInternational Big Meeting\, including the Language of Love Parade (Friday morning)\nFamily Big Meeting (Saturday night)\nSpiritual Big Meeting (Sunday morning)\nYour choice of many sessions throughout the event\nAvailable add‑ons\, for additional fee: \nDay of Connecting (All day Thursday)\, Speakers and workshops celebrating service\, the third leg in our recovery–$55 US includes lunch.\nTrailblazers Breakfast on Route 66! (Saturday morning)\, a Speaker meeting celebrating Trailblazers throughout Al‑Anon’s history including those still trailblazing today–$75 US includes breakfast.\nAl‑Anon Room Block \nThe Al‑Anon program will be held at the Convention Center\, with one evening session occurring at the connected DoubleTree hotel.\nThe A.A. program will be held in The Clyde hotel directly across the corner from the Convention Center.\nAl‑Anon has negotiated reasonable room rates that are dependent on members reserving housing through the International Convention Housing Room Block\, this helps the registration fee remain as low as possible.\nThe room rates range from $124 US to $189 US a night.\nReserve your hotel room early to be close to all the action.\nExcursions & Tours \nMore information about excursions and tours in Albuquerque will be coming soon.\nYou can reach us at: events@al-anon.org or by calling 757-563-1600. \nClick here to register. \nAl-Anon Beaufort County is not part of the planning or coordination of this event. We cannot assist in registration or refunds for this event. Please utilize the contact information provided by WSO to gain more information or assistance with any issues you may be having. Thank you for your understanding!
URL:https://www.al-anon-lowcountry.org/calendar/2023-al-anon-international-convention/
LOCATION:ABQ Convention Center\, 401 2nd St NW\, Albuquerque\, NM\, 87102\, United States
CATEGORIES:Conventions
ORGANIZER;CN="Al-Anon Family Group Headquarters%2C Inc.":MAILTO:wso@al-anon.org
END:VEVENT
BEGIN:VEVENT
DTSTART;TZID=America/New_York:20230610T100000
DTEND;TZID=America/New_York:20230610T110000
DTSTAMP:20260423T200715
CREATED:20230131T142226Z
LAST-MODIFIED:20230409T005307Z
UID:3670-1686391200-1686394800@www.al-anon-lowcountry.org
SUMMARY:ABC Bi-monthly Meeting (Jun. 2023)
DESCRIPTION:Al-Anon Beaufort County will be having our Bi-monthly business meeting on Zoom. This event was rescheduled for June 10\, 2023 to prevent a scheduling conflict with Area Assembly.  \nZoom ID: 869 0028 6587\nPasscode: 987123\nLink
URL:https://www.al-anon-lowcountry.org/calendar/abc-bi-monthly-meeting-jun-2023/
CATEGORIES:ABC Quarterly Business Meeting
ORGANIZER;CN="Al-Anon Beaufort County":MAILTO:webmaster@al-anon-lowcountry.org
END:VEVENT
BEGIN:VEVENT
DTSTART;TZID=America/New_York:20230429T123000
DTEND;TZID=America/New_York:20230429T153000
DTSTAMP:20260423T200715
CREATED:20230219T170851Z
LAST-MODIFIED:20230219T170851Z
UID:3723-1682771400-1682782200@www.al-anon-lowcountry.org
SUMMARY:2023 Spring Fling Picnic
DESCRIPTION:Al-Anon Beaufort County will be hosting the 2023 Spring Fling Picnic at Jarvis Creek Park (Pavilion #3) on Hilton Head Island on April 29. We will be there from 12:30pm til 3:30pm\, rain or shine\, we will be there! Pavilion offers coverage and there are restroom facilities at the park.  \nHotdogs\, drinks and paper products will be provided by Al-Anon Beaufort County – we encourage attendees to bring a side or dessert to share. This is an open event to members\, prospective members and their families!
URL:https://www.al-anon-lowcountry.org/calendar/2023-spring-fling-picnic/
LOCATION:Jarvis Creek Park\, 100 Jarvis Creek Road\, Hilton Head Island\, SC\, 29926\, United States
ORGANIZER;CN="Al-Anon Beaufort County":MAILTO:webmaster@al-anon-lowcountry.org
END:VEVENT
BEGIN:VEVENT
DTSTART;TZID=America/New_York:20230401T100000
DTEND;TZID=America/New_York:20230401T110000
DTSTAMP:20260423T200715
CREATED:20230131T142137Z
LAST-MODIFIED:20230131T142137Z
UID:3668-1680343200-1680346800@www.al-anon-lowcountry.org
SUMMARY:ABC Bi-monthly Meeting (Apr. 2023)
DESCRIPTION:Al-Anon Beaufort County will be having our Bi-monthly business meeting on Zoom. \nZoom ID: 869 0028 6587\nPasscode: 987123\nLink
URL:https://www.al-anon-lowcountry.org/calendar/abc-bi-monthly-meeting-apr-2023/
CATEGORIES:ABC Quarterly Business Meeting
ORGANIZER;CN="Al-Anon Beaufort County":MAILTO:webmaster@al-anon-lowcountry.org
END:VEVENT
BEGIN:VEVENT
DTSTART;TZID=America/New_York:20230216T140000
DTEND;TZID=America/New_York:20230219T110000
DTSTAMP:20260423T200715
CREATED:20230131T135708Z
LAST-MODIFIED:20230131T140217Z
UID:3661-1676556000-1676804400@www.al-anon-lowcountry.org
SUMMARY:48th Annual SC Al-Anon/Alateen Convention
DESCRIPTION:48th Annual South Carolina Al-Anon/Alateen Convention \n2023 SC Area 50 Convention with AA Participation will be held February 16 – 19\, 2023 at Hilton Greenville located at 45 West Orchard Park Drive\, Greenville\, SC 29615 \nFor more details see the Area 50 (state) website.  \nTo Reserve Rooms call:\nPH: 864-232-4747\nGroup Name: Al-Anon SC State Convention 2023\nGroup Code for Registration: ANON\nReserve by: January 20\, 2023\nRoom Rate: $126 / night – Double Occupancy \nAl-Anon Beaufort County is not part of the organization of this event so we cannot assist with refunds/cancelations.
URL:https://www.al-anon-lowcountry.org/calendar/48th-annual-sc-al-anon-alateen-convention/
LOCATION:Hilton Greenville\, 45 West Orchard Park Drive\, Greenville\, 29615\, United States
CATEGORIES:Conventions
END:VEVENT
BEGIN:VEVENT
DTSTART;TZID=America/New_York:20230204T100000
DTEND;TZID=America/New_York:20230204T110000
DTSTAMP:20260423T200715
CREATED:20230130T032705Z
LAST-MODIFIED:20230130T032724Z
UID:3656-1675504800-1675508400@www.al-anon-lowcountry.org
SUMMARY:ABC Bi-monthly Meeting (Feb. 2023)
DESCRIPTION:Al-Anon Beaufort County will be having our Bi-monthly business meeting on Zoom. \nZoom ID: 869 0028 6587\nPasscode: 987123\nLink
URL:https://www.al-anon-lowcountry.org/calendar/abc-bi-monthly-meeting-feb-2023/
LOCATION:Zoom
CATEGORIES:ABC Quarterly Business Meeting
ORGANIZER;CN="Al-Anon Beaufort County":MAILTO:webmaster@al-anon-lowcountry.org
END:VEVENT
BEGIN:VEVENT
DTSTART;TZID=America/New_York:20221203T100000
DTEND;TZID=America/New_York:20221203T110000
DTSTAMP:20260423T200715
CREATED:20221008T050710Z
LAST-MODIFIED:20221008T050710Z
UID:3568-1670061600-1670065200@www.al-anon-lowcountry.org
SUMMARY:ABC Bi-Monthly Meeting (Dec. 2022)
DESCRIPTION:Al-Anon Beaufort County will be having our Bi-monthly business meeting on Zoom. \n*REMINDER* Elections for open positions are at the meeting!  \nZoom ID: 869 0028 6587\nPasscode: 987123\nLink
URL:https://www.al-anon-lowcountry.org/calendar/abc-bi-monthly-meeting-dec-2022/
LOCATION:Zoom
CATEGORIES:ABC Quarterly Business Meeting
ORGANIZER;CN="Al-Anon Beaufort County":MAILTO:webmaster@al-anon-lowcountry.org
END:VEVENT
BEGIN:VEVENT
DTSTART;TZID=America/New_York:20221008T100000
DTEND;TZID=America/New_York:20221008T110000
DTSTAMP:20260423T200715
CREATED:20221008T050601Z
LAST-MODIFIED:20221008T050739Z
UID:3566-1665223200-1665226800@www.al-anon-lowcountry.org
SUMMARY:ABC Bi-Monthly Meeting (Oct. 2022)
DESCRIPTION:Al-Anon Beaufort County will be having our Bi-monthly business meeting on Zoom. \nZoom ID: 869 0028 6587\nPasscode: 987123\nLink
URL:https://www.al-anon-lowcountry.org/calendar/abc-bi-monthly-meeting-oct-2022/
LOCATION:Zoom
CATEGORIES:ABC Quarterly Business Meeting
ORGANIZER;CN="Al-Anon Beaufort County":MAILTO:webmaster@al-anon-lowcountry.org
END:VEVENT
BEGIN:VEVENT
DTSTART;TZID=America/New_York:20220806T100000
DTEND;TZID=America/New_York:20220806T110000
DTSTAMP:20260423T200715
CREATED:20220804T230559Z
LAST-MODIFIED:20221008T050752Z
UID:3498-1659780000-1659783600@www.al-anon-lowcountry.org
SUMMARY:ABC Bi-Monthly Meeting (Aug. 2022)
DESCRIPTION:Al-Anon Beaufort County will be having our Bi-monthly business meeting on Zoom. \nZoom ID: 869 0028 6587\nPasscode: 987123\nLink
URL:https://www.al-anon-lowcountry.org/calendar/abc-bi-monthly-meeting-august-2022/
LOCATION:Zoom
CATEGORIES:ABC Quarterly Business Meeting
ORGANIZER;CN="Al-Anon Beaufort County":MAILTO:webmaster@al-anon-lowcountry.org
END:VEVENT
BEGIN:VEVENT
DTSTART;TZID=America/New_York:20220604T100000
DTEND;TZID=America/New_York:20220604T110000
DTSTAMP:20260423T200715
CREATED:20220401T215445Z
LAST-MODIFIED:20221008T050810Z
UID:3454-1654336800-1654340400@www.al-anon-lowcountry.org
SUMMARY:ABC Bi Monthly Meeting (June 2022)
DESCRIPTION:Al-Anon Beaufort County will be having our Bi-monthly business meeting on Zoom. \nZoom ID: 869 0028 6587\nPasscode: 987123\nLink
URL:https://www.al-anon-lowcountry.org/calendar/abc-bi-monthly-meeting-june-2022/
LOCATION:Zoom
CATEGORIES:ABC Quarterly Business Meeting
ORGANIZER;CN="Al-Anon Beaufort County":MAILTO:webmaster@al-anon-lowcountry.org
END:VEVENT
BEGIN:VEVENT
DTSTART;TZID=America/New_York:20220402T100000
DTEND;TZID=America/New_York:20220402T110000
DTSTAMP:20260423T200715
CREATED:20220401T215404Z
LAST-MODIFIED:20221008T050818Z
UID:3452-1648893600-1648897200@www.al-anon-lowcountry.org
SUMMARY:ABC Bi Monthly Meeting (April 2022)
DESCRIPTION:Al-Anon Beaufort County will be having our Bi-monthly business meeting on Zoom. \nZoom ID: 869 0028 6587\nPasscode: 987123\nLink
URL:https://www.al-anon-lowcountry.org/calendar/abc-bi-monthly-meeting-april-2022/
LOCATION:Zoom
CATEGORIES:ABC Quarterly Business Meeting
ORGANIZER;CN="Al-Anon Beaufort County":MAILTO:webmaster@al-anon-lowcountry.org
END:VEVENT
BEGIN:VEVENT
DTSTART;TZID=America/New_York:20220212T100000
DTEND;TZID=America/New_York:20220212T110000
DTSTAMP:20260423T200715
CREATED:20211231T064936Z
LAST-MODIFIED:20211231T065126Z
UID:3392-1644660000-1644663600@www.al-anon-lowcountry.org
SUMMARY:ABC Bi-Monthly Meeting (Feb. 2022)
DESCRIPTION:This meeting is being held on the SECOND Saturday of the month instead of the first due to the SC Al-Anon State Convention being held in Myrtle Beach from Feb 3-6.  \nZoom ID: 869 0028 6587\nPasscode: 987123\nLink
URL:https://www.al-anon-lowcountry.org/calendar/bi-monthly-intergroup-meeting-feb-2022/
LOCATION:Zoom
CATEGORIES:ABC Quarterly Business Meeting
ORGANIZER;CN="Al-Anon Beaufort County":MAILTO:webmaster@al-anon-lowcountry.org
END:VEVENT
BEGIN:VEVENT
DTSTART;TZID=America/New_York:20210807T100000
DTEND;TZID=America/New_York:20210807T110000
DTSTAMP:20260423T200715
CREATED:20210801T145507Z
LAST-MODIFIED:20210801T145507Z
UID:3233-1628330400-1628334000@www.al-anon-lowcountry.org
SUMMARY:ABC Bi-Monthly Meeting (Aug. 2021)
DESCRIPTION:Al-Anon Beaufort County will be having our Bi-monthly business meeting on Zoom. \nZoom ID: 869 0028 6587\nPasscode: 987123\nLink
URL:https://www.al-anon-lowcountry.org/calendar/abc-bi-monthly-meeting-aug-2021/
LOCATION:Zoom
CATEGORIES:ABC Quarterly Business Meeting
ORGANIZER;CN="Al-Anon Beaufort County":MAILTO:webmaster@al-anon-lowcountry.org
END:VEVENT
BEGIN:VEVENT
DTSTART;TZID=America/New_York:20210626T100000
DTEND;TZID=America/New_York:20210626T140000
DTSTAMP:20260423T200715
CREATED:20210619T164548Z
LAST-MODIFIED:20210619T164548Z
UID:3198-1624701600-1624716000@www.al-anon-lowcountry.org
SUMMARY:Area Assembly (June 2021)
DESCRIPTION:Al-Anon Family Groups of South Carolina is having their Area Assembly on Zoom June 26\, 2021.  \nRegister in advance for this meeting: \nhttps://us02web.zoom.us/meeting/register/tZEpd-qgpz0sGtwXhE7iFPLJKExLBnkm14YL  \nAfter registering\, you will receive a confirmation email containing information about joining the meeting.
URL:https://www.al-anon-lowcountry.org/calendar/area-assembly-june-2021/
LOCATION:Zoom
CATEGORIES:Area Assembly
END:VEVENT
BEGIN:VEVENT
DTSTART;TZID=America/New_York:20210612T100000
DTEND;TZID=America/New_York:20210612T120000
DTSTAMP:20260423T200715
CREATED:20210608T004846Z
LAST-MODIFIED:20210608T004846Z
UID:3191-1623492000-1623499200@www.al-anon-lowcountry.org
SUMMARY:SCAFG District 6 (June 12\, 2021)
DESCRIPTION:Attached is the agenda for our meeting Saturday: SCAFG District 6 Meeting Agenda June 12 2021.docx \nSCAFG District6 is inviting you to a scheduled Zoom meeting. \nTopic: District 6 Meeting\nTime: Jun 12\, 2021 10:00 AM Eastern Time (US and Canada) \nJoin Zoom Meeting\nhttps://us02web.zoom.us/j/87698408418?pwd=VWpyR0YwdFpmMEtpMUsrL2hydkxudz09  \nMeeting ID: 876 9840 8418\nPasscode: District6 \nDial by your location\n        +1 301 715 8592 US (Washington DC)\n        +1 312 626 6799 US (Chicago)\n        +1 929 205 6099 US (New York)
URL:https://www.al-anon-lowcountry.org/calendar/scafg-district-6-june-12-2021/
LOCATION:Zoom
CATEGORIES:District Meeting
END:VEVENT
BEGIN:VEVENT
DTSTART;TZID=America/New_York:20210605T100000
DTEND;TZID=America/New_York:20210605T110000
DTSTAMP:20260423T200715
CREATED:20210603T144530Z
LAST-MODIFIED:20210603T144550Z
UID:3177-1622887200-1622890800@www.al-anon-lowcountry.org
SUMMARY:ABC Bi-Monthly Meeting (June 2021)
DESCRIPTION:Al-Anon Beaufort County will be having our Bi-monthly business meeting on Zoom. \nZoom ID: 869 0028 6587\nPasscode: 987123\nLink
URL:https://www.al-anon-lowcountry.org/calendar/abc-bi-monthly-meeting-june-2021/
LOCATION:Zoom
CATEGORIES:ABC Quarterly Business Meeting
ORGANIZER;CN="Al-Anon Beaufort County":MAILTO:webmaster@al-anon-lowcountry.org
END:VEVENT
BEGIN:VEVENT
DTSTART;TZID=America/New_York:20210403T100000
DTEND;TZID=America/New_York:20210403T110000
DTSTAMP:20260423T200715
CREATED:20210205T104322Z
LAST-MODIFIED:20210205T104933Z
UID:1644-1617444000-1617447600@www.al-anon-lowcountry.org
SUMMARY:ABC Bi-Monthly Meeting (April 2021)
DESCRIPTION:Al-Anon Beaufort County will be having our Bi-monthly business meeting on Zoom. \nZoom ID: 869 0028 6587\nPasscode: 987123\nLink
URL:https://www.al-anon-lowcountry.org/calendar/abc-bi-monthly-meeting-april-2021/
LOCATION:Zoom
CATEGORIES:ABC Quarterly Business Meeting
ORGANIZER;CN="Al-Anon Beaufort County":MAILTO:webmaster@al-anon-lowcountry.org
END:VEVENT
BEGIN:VEVENT
DTSTART;TZID=America/New_York:20210206T100000
DTEND;TZID=America/New_York:20210206T110000
DTSTAMP:20260423T200715
CREATED:20210205T104217Z
LAST-MODIFIED:20210205T104419Z
UID:1642-1612605600-1612609200@www.al-anon-lowcountry.org
SUMMARY:ABC Bi-Monthly Meeting (Feb. 2021)
DESCRIPTION:Al-Anon Beaufort County will be having our Bi-monthly business meeting on Zoom. \nZoom ID: 869 0028 6587\nPasscode: 987123\nLink
URL:https://www.al-anon-lowcountry.org/calendar/abc-bi-monthly-meeting-feb-2021/
LOCATION:Zoom
CATEGORIES:ABC Quarterly Business Meeting
ORGANIZER;CN="Al-Anon Beaufort County":MAILTO:webmaster@al-anon-lowcountry.org
END:VEVENT
BEGIN:VEVENT
DTSTART;TZID=America/New_York:20201205T100000
DTEND;TZID=America/New_York:20201205T110000
DTSTAMP:20260423T200715
CREATED:20200106T075233Z
LAST-MODIFIED:20200724T131417Z
UID:969-1607162400-1607166000@www.al-anon-lowcountry.org
SUMMARY:ABC Bi-Monthly Meeting (December 2020)
DESCRIPTION:Al-Anon Beaufort County will be having our Bi-monthly business meeting on Zoom. \nZoom ID: 869 0028 6587\nPasscode: 987123\nLink
URL:https://www.al-anon-lowcountry.org/calendar/abc-bi-monthly-meeting-december-2020/
LOCATION:Zoom
CATEGORIES:ABC Quarterly Business Meeting
ORGANIZER;CN="Al-Anon Beaufort County":MAILTO:webmaster@al-anon-lowcountry.org
END:VEVENT
BEGIN:VEVENT
DTSTART;TZID=America/New_York:20201107T100000
DTEND;TZID=America/New_York:20201107T120000
DTSTAMP:20260423T200715
CREATED:20200223T002254Z
LAST-MODIFIED:20201002T221728Z
UID:1028-1604743200-1604750400@www.al-anon-lowcountry.org
SUMMARY:District 6 Meeting
DESCRIPTION:This meeting will be held on Zoom.
URL:https://www.al-anon-lowcountry.org/calendar/district-6-meeting-4/
LOCATION:Zoom
CATEGORIES:District Meeting
END:VEVENT
BEGIN:VEVENT
DTSTART;TZID=America/New_York:20201017T090000
DTEND;TZID=America/New_York:20201017T150000
DTSTAMP:20260423T200715
CREATED:20200107T113336Z
LAST-MODIFIED:20201002T221815Z
UID:976-1602925200-1602946800@www.al-anon-lowcountry.org
SUMMARY:SC Area Assembly
DESCRIPTION:This meeting will likely be on Zoom.
URL:https://www.al-anon-lowcountry.org/calendar/sc-area-assembly-3/
LOCATION:Zoom
CATEGORIES:Area Assembly
END:VEVENT
BEGIN:VEVENT
DTSTART;TZID=America/New_York:20201003T090000
DTEND;TZID=America/New_York:20201003T100000
DTSTAMP:20260423T200715
CREATED:20200106T075200Z
LAST-MODIFIED:20200724T131349Z
UID:967-1601715600-1601719200@www.al-anon-lowcountry.org
SUMMARY:ABC Bi-Monthly Meeting (October 2020)
DESCRIPTION:Al-Anon Beaufort County will be having our Bi-monthly business meeting on Zoom.  \nZoom ID: 869 0028 6587\nPasscode: 987123\nLink
URL:https://www.al-anon-lowcountry.org/calendar/abc-bi-monthly-meeting-october-2020/
LOCATION:Zoom
CATEGORIES:ABC Quarterly Business Meeting
ORGANIZER;CN="Al-Anon Beaufort County":MAILTO:webmaster@al-anon-lowcountry.org
END:VEVENT
BEGIN:VEVENT
DTSTART;TZID=America/New_York:20200829T093000
DTEND;TZID=America/New_York:20200829T150000
DTSTAMP:20260423T200715
CREATED:20200825T135551Z
LAST-MODIFIED:20200825T135749Z
UID:1441-1598693400-1598713200@www.al-anon-lowcountry.org
SUMMARY:SC Alateen Conference on Zoom
DESCRIPTION:The South Carolina Alateen Conference is coming up Saturday August 29\, 2020 from 9:30am til 3:00pm. This conference will be open to all Alateen and Al-Anon members!
URL:https://www.al-anon-lowcountry.org/calendar/sc-alateen-conference-on-zoom/
LOCATION:Zoom
CATEGORIES:Conferences
END:VEVENT
BEGIN:VEVENT
DTSTART;TZID=America/New_York:20200801T090000
DTEND;TZID=America/New_York:20200801T100000
DTSTAMP:20260423T200715
CREATED:20200106T075049Z
LAST-MODIFIED:20200724T131253Z
UID:965-1596272400-1596276000@www.al-anon-lowcountry.org
SUMMARY:ABC Bi-Monthly Meeting (August 2020)
DESCRIPTION:Al-Anon Beaufort County will be having our Bi-monthly business meeting on Zoom. \nZoom ID: 869 0028 6587\nPasscode: 987123\nLink
URL:https://www.al-anon-lowcountry.org/calendar/abc-bi-monthly-meeting-august-2020/
LOCATION:Zoom
CATEGORIES:ABC Quarterly Business Meeting
ORGANIZER;CN="Al-Anon Beaufort County":MAILTO:webmaster@al-anon-lowcountry.org
END:VEVENT
BEGIN:VEVENT
DTSTART;TZID=America/New_York:20200627T090000
DTEND;TZID=America/New_York:20200627T150000
DTSTAMP:20260423T200715
CREATED:20200107T113258Z
LAST-MODIFIED:20200601T090300Z
UID:974-1593248400-1593270000@www.al-anon-lowcountry.org
SUMMARY:SC Area Assembly
DESCRIPTION:All SC Area Assemblies will be held at Columbia Metropolitan Convention Center at 1101\, Lincoln St.\, Columbia\, SC starting at 10:00am.
URL:https://www.al-anon-lowcountry.org/calendar/sc-area-assembly-2/
LOCATION:Columbia Metropolitan Convention Center\, 1101 Lincoln Street\, Columbia\, SC\, 29201\, United States
CATEGORIES:Area Assembly
END:VEVENT
BEGIN:VEVENT
DTSTART;TZID=America/New_York:20200606T090000
DTEND;TZID=America/New_York:20200606T100000
DTSTAMP:20260423T200715
CREATED:20200106T074805Z
LAST-MODIFIED:20200601T041530Z
UID:963-1591434000-1591437600@www.al-anon-lowcountry.org
SUMMARY:ABC Bi-Monthly Meeting (June 2020)
DESCRIPTION:Al-Anon Beaufort County will be having our Bi-monthly business meeting on Zoom. The meeting will run from 10:00am til 11:00am like usual.  \nZoom ID: 889 8499 2752\nZoom PW: 421975 \nClick here to join.
URL:https://www.al-anon-lowcountry.org/calendar/abc-bi-monthly-meeting-june-2020/
LOCATION:Beaufort-Jasper Water & Sewer Authority\, 6 Snake Road\, Okatie\, SC\, 29909\, United States
CATEGORIES:ABC Quarterly Business Meeting
ORGANIZER;CN="Al-Anon Beaufort County":MAILTO:webmaster@al-anon-lowcountry.org
END:VEVENT
END:VCALENDAR