BEGIN:VCALENDAR
VERSION:2.0
PRODID:-//SC District 6 AFG - ECPv6.15.18//NONSGML v1.0//EN
CALSCALE:GREGORIAN
METHOD:PUBLISH
X-ORIGINAL-URL:https://www.al-anon-lowcountry.org
X-WR-CALDESC:Events for SC District 6 AFG
REFRESH-INTERVAL;VALUE=DURATION:PT1H
X-Robots-Tag:noindex
X-PUBLISHED-TTL:PT1H
BEGIN:VTIMEZONE
TZID:America/New_York
BEGIN:DAYLIGHT
TZOFFSETFROM:-0500
TZOFFSETTO:-0400
TZNAME:EDT
DTSTART:20230312T070000
END:DAYLIGHT
BEGIN:STANDARD
TZOFFSETFROM:-0400
TZOFFSETTO:-0500
TZNAME:EST
DTSTART:20231105T060000
END:STANDARD
BEGIN:DAYLIGHT
TZOFFSETFROM:-0500
TZOFFSETTO:-0400
TZNAME:EDT
DTSTART:20240310T070000
END:DAYLIGHT
BEGIN:STANDARD
TZOFFSETFROM:-0400
TZOFFSETTO:-0500
TZNAME:EST
DTSTART:20241103T060000
END:STANDARD
BEGIN:DAYLIGHT
TZOFFSETFROM:-0500
TZOFFSETTO:-0400
TZNAME:EDT
DTSTART:20250309T070000
END:DAYLIGHT
BEGIN:STANDARD
TZOFFSETFROM:-0400
TZOFFSETTO:-0500
TZNAME:EST
DTSTART:20251102T060000
END:STANDARD
BEGIN:DAYLIGHT
TZOFFSETFROM:-0500
TZOFFSETTO:-0400
TZNAME:EDT
DTSTART:20260308T070000
END:DAYLIGHT
BEGIN:STANDARD
TZOFFSETFROM:-0400
TZOFFSETTO:-0500
TZNAME:EST
DTSTART:20261101T060000
END:STANDARD
END:VTIMEZONE
BEGIN:VEVENT
DTSTART;TZID=America/New_York:20250203T180000
DTEND;TZID=America/New_York:20250203T190000
DTSTAMP:20260423T154341
CREATED:20250130T154547Z
LAST-MODIFIED:20250130T154547Z
UID:4363-1738605600-1738609200@www.al-anon-lowcountry.org
SUMMARY:First Monday Speaker Meeting
DESCRIPTION:Just For Today AFG will be hosting their first Monday of the month speaker meeting. Join them at 3080 Okatie Hwy. in Okatie\, SC at 6:00pm February 3rd!  \nSpeaker TBA
URL:https://www.al-anon-lowcountry.org/calendar/first-monday-speaker-meeting/
LOCATION:St Lukes Methodist Church in Okatie\, 3080 Okatie Hwy\, Okatie\, SC\, 29909\, United States
CATEGORIES:Speaker Meeting
END:VEVENT
BEGIN:VEVENT
DTSTART;TZID=America/New_York:20241202T180000
DTEND;TZID=America/New_York:20241202T190000
DTSTAMP:20260423T154341
CREATED:20231026T142955Z
LAST-MODIFIED:20241028T004444Z
UID:3952-1733162400-1733166000@www.al-anon-lowcountry.org
SUMMARY:First Monday Speaker Meeting
DESCRIPTION:Just For Today AFG will be hosting their first Monday of the month speaker meeting. Join them at 3080 Okatie Hwy. in Okatie\, SC at 6:00pm December 2nd!
URL:https://www.al-anon-lowcountry.org/calendar/first-monday-speaker-meeting-dec-2-2024/
LOCATION:St Lukes Methodist Church in Okatie\, 3080 Okatie Hwy\, Okatie\, SC\, 29909\, United States
CATEGORIES:Speaker Meeting
END:VEVENT
BEGIN:VEVENT
DTSTART;TZID=America/New_York:20241104T180000
DTEND;TZID=America/New_York:20241104T190000
DTSTAMP:20260423T154341
CREATED:20231026T142843Z
LAST-MODIFIED:20241028T004208Z
UID:3950-1730743200-1730746800@www.al-anon-lowcountry.org
SUMMARY:First Monday Speaker Meeting
DESCRIPTION:Just For Today AFG will be hosting their first Monday of the month speaker meeting. Join them at 3080 Okatie Hwy. in Okatie\, SC at 6:00pm November 4th!
URL:https://www.al-anon-lowcountry.org/calendar/first-monday-speaker-meeting-nov-4-2024/
LOCATION:St Lukes Methodist Church in Okatie\, 3080 Okatie Hwy\, Okatie\, SC\, 29909\, United States
CATEGORIES:Speaker Meeting
END:VEVENT
BEGIN:VEVENT
DTSTART;TZID=America/New_York:20241007T180000
DTEND;TZID=America/New_York:20241007T190000
DTSTAMP:20260423T154341
CREATED:20231026T142730Z
LAST-MODIFIED:20231026T143440Z
UID:3947-1728324000-1728327600@www.al-anon-lowcountry.org
SUMMARY:First Monday Speaker Meeting
DESCRIPTION:Just For Today AFG will be hosting their first Monday of the month speaker meeting. Join them at 3080 Okatie Hwy. in Okatie\, SC at 6:00pm October 7th!
URL:https://www.al-anon-lowcountry.org/calendar/first-monday-speaker-meeting-oct-7-2024/
LOCATION:St Lukes Methodist Church in Okatie\, 3080 Okatie Hwy\, Okatie\, SC\, 29909\, United States
CATEGORIES:Speaker Meeting
END:VEVENT
BEGIN:VEVENT
DTSTART;TZID=America/New_York:20240902T180000
DTEND;TZID=America/New_York:20240902T190000
DTSTAMP:20260423T154341
CREATED:20231026T142613Z
LAST-MODIFIED:20231026T143454Z
UID:3945-1725300000-1725303600@www.al-anon-lowcountry.org
SUMMARY:First Monday Speaker Meeting
DESCRIPTION:Just For Today AFG will be hosting their first Monday of the month speaker meeting. Join them at 3080 Okatie Hwy. in Okatie\, SC at 6:00pm September 2nd!
URL:https://www.al-anon-lowcountry.org/calendar/first-monday-speaker-meeting-sep-2-2024/
LOCATION:St Lukes Methodist Church in Okatie\, 3080 Okatie Hwy\, Okatie\, SC\, 29909\, United States
CATEGORIES:Speaker Meeting
END:VEVENT
BEGIN:VEVENT
DTSTART;TZID=America/New_York:20240805T180000
DTEND;TZID=America/New_York:20240805T190000
DTSTAMP:20260423T154341
CREATED:20231026T142414Z
LAST-MODIFIED:20231026T143532Z
UID:3943-1722880800-1722884400@www.al-anon-lowcountry.org
SUMMARY:First Monday Speaker Meeting
DESCRIPTION:Just For Today AFG will be hosting their first Monday of the month speaker meeting. Join them at 3080 Okatie Hwy. in Okatie\, SC at 6:00pm August 5th!
URL:https://www.al-anon-lowcountry.org/calendar/first-monday-speaker-meeting-aug-5-2024/
LOCATION:St Lukes Methodist Church in Okatie\, 3080 Okatie Hwy\, Okatie\, SC\, 29909\, United States
CATEGORIES:Speaker Meeting
END:VEVENT
BEGIN:VEVENT
DTSTART;TZID=America/New_York:20240701T180000
DTEND;TZID=America/New_York:20240701T190000
DTSTAMP:20260423T154341
CREATED:20231026T141902Z
LAST-MODIFIED:20231026T143653Z
UID:3941-1719856800-1719860400@www.al-anon-lowcountry.org
SUMMARY:First Monday Speaker Meeting
DESCRIPTION:Just For Today AFG will be hosting their first Monday of the month speaker meeting. Join them at 3080 Okatie Hwy. in Okatie\, SC at 6:00pm July 1st!
URL:https://www.al-anon-lowcountry.org/calendar/first-monday-speaker-meeting-jul-1-2024/
LOCATION:St Lukes Methodist Church in Okatie\, 3080 Okatie Hwy\, Okatie\, SC\, 29909\, United States
CATEGORIES:Speaker Meeting
END:VEVENT
BEGIN:VEVENT
DTSTART;TZID=America/New_York:20240603T180000
DTEND;TZID=America/New_York:20240603T190000
DTSTAMP:20260423T154341
CREATED:20231026T141607Z
LAST-MODIFIED:20240525T190505Z
UID:3939-1717437600-1717441200@www.al-anon-lowcountry.org
SUMMARY:First Monday Speaker Meeting
DESCRIPTION:Just For Today AFG will be hosting their first Monday of the month speaker meeting. Join them at 3080 Okatie Hwy. in Okatie\, SC at 6:00pm June 3rd!
URL:https://www.al-anon-lowcountry.org/calendar/first-monday-speaker-meeting-jun-3-2024/
LOCATION:St Lukes Methodist Church in Okatie\, 3080 Okatie Hwy\, Okatie\, SC\, 29909\, United States
CATEGORIES:Speaker Meeting
END:VEVENT
BEGIN:VEVENT
DTSTART;TZID=America/New_York:20240506T180000
DTEND;TZID=America/New_York:20240506T190000
DTSTAMP:20260423T154341
CREATED:20231026T141442Z
LAST-MODIFIED:20231201T152610Z
UID:3937-1715018400-1715022000@www.al-anon-lowcountry.org
SUMMARY:First Monday Speaker Meeting
DESCRIPTION:Just For Today AFG will be hosting their first Monday of the month speaker meeting. Join them at 3080 Okatie Hwy. in Okatie\, SC at 6:00pm May 6th!
URL:https://www.al-anon-lowcountry.org/calendar/first-monday-speaker-meeting-may-6-2024/
LOCATION:St Lukes Methodist Church in Okatie\, 3080 Okatie Hwy\, Okatie\, SC\, 29909\, United States
CATEGORIES:Speaker Meeting
END:VEVENT
BEGIN:VEVENT
DTSTART;TZID=America/New_York:20240401T180000
DTEND;TZID=America/New_York:20240401T190000
DTSTAMP:20260423T154341
CREATED:20231026T133656Z
LAST-MODIFIED:20231026T143802Z
UID:3935-1711994400-1711998000@www.al-anon-lowcountry.org
SUMMARY:First Monday Speaker Meeting
DESCRIPTION:Just For Today AFG will be hosting their first Monday of the month speaker meeting. Join them at 3080 Okatie Hwy. in Okatie\, SC at 6:00pm April 1st!
URL:https://www.al-anon-lowcountry.org/calendar/first-monday-speaker-meeting-apr-1-2024/
LOCATION:St Lukes Methodist Church in Okatie\, 3080 Okatie Hwy\, Okatie\, SC\, 29909\, United States
CATEGORIES:Speaker Meeting
END:VEVENT
BEGIN:VEVENT
DTSTART;TZID=America/New_York:20240303T180000
DTEND;TZID=America/New_York:20240303T190000
DTSTAMP:20260423T154341
CREATED:20231026T131405Z
LAST-MODIFIED:20231026T143739Z
UID:3932-1709488800-1709492400@www.al-anon-lowcountry.org
SUMMARY:First Monday Speaker Meeting
DESCRIPTION:Just For Today AFG will be hosting their first Monday of the month speaker meeting. Join them at 3080 Okatie Hwy. in Okatie\, SC at 6:00pm March 3rd!
URL:https://www.al-anon-lowcountry.org/calendar/first-monday-speaker-meeting-mar-3-2024/
LOCATION:St Lukes Methodist Church in Okatie\, 3080 Okatie Hwy\, Okatie\, SC\, 29909\, United States
CATEGORIES:Speaker Meeting
END:VEVENT
BEGIN:VEVENT
DTSTART;TZID=America/New_York:20240205T180000
DTEND;TZID=America/New_York:20240205T190000
DTSTAMP:20260423T154341
CREATED:20231026T125345Z
LAST-MODIFIED:20240131T144945Z
UID:3930-1707156000-1707159600@www.al-anon-lowcountry.org
SUMMARY:First Monday Speaker Meeting
DESCRIPTION:Just For Today AFG will be hosting their first Monday of the month speaker meeting. Join them at 3080 Okatie Hwy. in Okatie\, SC at 6:00pm February 5th!
URL:https://www.al-anon-lowcountry.org/calendar/first-monday-speaker-meeting-feb-5-2024/
LOCATION:St Lukes Methodist Church in Okatie\, 3080 Okatie Hwy\, Okatie\, SC\, 29909\, United States
CATEGORIES:Speaker Meeting
END:VEVENT
BEGIN:VEVENT
DTSTART;TZID=America/New_York:20240101T180000
DTEND;TZID=America/New_York:20240101T190000
DTSTAMP:20260423T154341
CREATED:20231026T125105Z
LAST-MODIFIED:20231212T013907Z
UID:3926-1704132000-1704135600@www.al-anon-lowcountry.org
SUMMARY:First Monday Speaker Meeting
DESCRIPTION:Just For Today AFG will be hosting their first Monday of the month speaker meeting. Join them at 3080 Okatie Hwy. in Okatie\, SC at 6:00pm January 1st!
URL:https://www.al-anon-lowcountry.org/calendar/first-monday-speaker-meeting-jan-1-2024/
LOCATION:St Lukes Methodist Church in Okatie\, 3080 Okatie Hwy\, Okatie\, SC\, 29909\, United States
CATEGORIES:Speaker Meeting
END:VEVENT
END:VCALENDAR