BEGIN:VCALENDAR
VERSION:2.0
PRODID:-//SC District 6 AFG - ECPv6.15.18//NONSGML v1.0//EN
CALSCALE:GREGORIAN
METHOD:PUBLISH
X-ORIGINAL-URL:https://www.al-anon-lowcountry.org
X-WR-CALDESC:Events for SC District 6 AFG
REFRESH-INTERVAL;VALUE=DURATION:PT1H
X-Robots-Tag:noindex
X-PUBLISHED-TTL:PT1H
BEGIN:VTIMEZONE
TZID:America/New_York
BEGIN:DAYLIGHT
TZOFFSETFROM:-0500
TZOFFSETTO:-0400
TZNAME:EDT
DTSTART:20250309T070000
END:DAYLIGHT
BEGIN:STANDARD
TZOFFSETFROM:-0400
TZOFFSETTO:-0500
TZNAME:EST
DTSTART:20251102T060000
END:STANDARD
BEGIN:DAYLIGHT
TZOFFSETFROM:-0500
TZOFFSETTO:-0400
TZNAME:EDT
DTSTART:20260308T070000
END:DAYLIGHT
BEGIN:STANDARD
TZOFFSETFROM:-0400
TZOFFSETTO:-0500
TZNAME:EST
DTSTART:20261101T060000
END:STANDARD
BEGIN:DAYLIGHT
TZOFFSETFROM:-0500
TZOFFSETTO:-0400
TZNAME:EDT
DTSTART:20270314T070000
END:DAYLIGHT
BEGIN:STANDARD
TZOFFSETFROM:-0400
TZOFFSETTO:-0500
TZNAME:EST
DTSTART:20271107T060000
END:STANDARD
END:VTIMEZONE
BEGIN:VEVENT
DTSTART;TZID=America/New_York:20260124T133000
DTEND;TZID=America/New_York:20260124T150000
DTSTAMP:20260423T140957
CREATED:20251101T160753Z
LAST-MODIFIED:20260202T125559Z
UID:4576-1769261400-1769266800@www.al-anon-lowcountry.org
SUMMARY:District 6 Business Meeting (Jan. 2026)
DESCRIPTION:The first District 6 business meeting for Panel 66. This will be a hybrid meeting at All Saints Episcopal Church located on Hilton Head Island at 1:30pm. \n\nAll Saints Episcopal Church\n3001 Meeting Street\nHilton Head Island\, SC 29926\n\nhttps://us02web.zoom.us/j/86900286587?pwd=L3VMQURrTHlDVWJwL3JoVWdzY0EyZz09\n\nMeeting ID: 869 0028 6587\nPasscode: 987123
URL:https://www.al-anon-lowcountry.org/calendar/district-6-business-meeting/
LOCATION:All Saints Episcopal Church (HHI)\, 3001 Meeting Street\, Hilton Head Island\, SC\, 29926\, United States
CATEGORIES:District Meeting
END:VEVENT
END:VCALENDAR