BEGIN:VCALENDAR
VERSION:2.0
PRODID:-//SC District 6 AFG - ECPv6.15.18//NONSGML v1.0//EN
CALSCALE:GREGORIAN
METHOD:PUBLISH
X-WR-CALNAME:SC District 6 AFG
X-ORIGINAL-URL:https://www.al-anon-lowcountry.org
X-WR-CALDESC:Events for SC District 6 AFG
REFRESH-INTERVAL;VALUE=DURATION:PT1H
X-Robots-Tag:noindex
X-PUBLISHED-TTL:PT1H
BEGIN:VTIMEZONE
TZID:America/New_York
BEGIN:DAYLIGHT
TZOFFSETFROM:-0500
TZOFFSETTO:-0400
TZNAME:EDT
DTSTART:20240310T070000
END:DAYLIGHT
BEGIN:STANDARD
TZOFFSETFROM:-0400
TZOFFSETTO:-0500
TZNAME:EST
DTSTART:20241103T060000
END:STANDARD
BEGIN:DAYLIGHT
TZOFFSETFROM:-0500
TZOFFSETTO:-0400
TZNAME:EDT
DTSTART:20250309T070000
END:DAYLIGHT
BEGIN:STANDARD
TZOFFSETFROM:-0400
TZOFFSETTO:-0500
TZNAME:EST
DTSTART:20251102T060000
END:STANDARD
BEGIN:DAYLIGHT
TZOFFSETFROM:-0500
TZOFFSETTO:-0400
TZNAME:EDT
DTSTART:20260308T070000
END:DAYLIGHT
BEGIN:STANDARD
TZOFFSETFROM:-0400
TZOFFSETTO:-0500
TZNAME:EST
DTSTART:20261101T060000
END:STANDARD
END:VTIMEZONE
BEGIN:VEVENT
DTSTART;TZID=America/New_York:20250823T100000
DTEND;TZID=America/New_York:20250823T110000
DTSTAMP:20260423T195659
CREATED:20250619T121848Z
LAST-MODIFIED:20250819T222943Z
UID:4427-1755943200-1755946800@www.al-anon-lowcountry.org
SUMMARY:ABC AD-HOC Business Meeting
DESCRIPTION:August 23rd will be an AD-HOC business meeting for Al-Anon Beaufort County taking place at 10:00am on Zoom.  \nThe only topics being covered at this meeting is the will involve the A) disbanding of ABC\, B) merger of assets and resources from ABC into District 6 and C) upcoming District 6 elections at the September 20\, 2025 District 6 meeting.  \nhttps://us02web.zoom.us/j/86900286587?pwd=L3VMQURrTHlDVWJwL3JoVWdzY0EyZz09\nMeeting ID: 869 0028 6587\nPasscode: 987123
URL:https://www.al-anon-lowcountry.org/calendar/abc-ad-hoc-business-meeting/
LOCATION:Zoom
CATEGORIES:ABC Quarterly Business Meeting
ORGANIZER;CN="Al-Anon Beaufort County":MAILTO:webmaster@al-anon-lowcountry.org
END:VEVENT
END:VCALENDAR