BEGIN:VCALENDAR
VERSION:2.0
PRODID:-//SC District 6 AFG - ECPv6.15.18//NONSGML v1.0//EN
CALSCALE:GREGORIAN
METHOD:PUBLISH
X-ORIGINAL-URL:https://www.al-anon-lowcountry.org
X-WR-CALDESC:Events for SC District 6 AFG
REFRESH-INTERVAL;VALUE=DURATION:PT1H
X-Robots-Tag:noindex
X-PUBLISHED-TTL:PT1H
BEGIN:VTIMEZONE
TZID:America/New_York
BEGIN:DAYLIGHT
TZOFFSETFROM:-0500
TZOFFSETTO:-0400
TZNAME:EDT
DTSTART:20240310T070000
END:DAYLIGHT
BEGIN:STANDARD
TZOFFSETFROM:-0400
TZOFFSETTO:-0500
TZNAME:EST
DTSTART:20241103T060000
END:STANDARD
BEGIN:DAYLIGHT
TZOFFSETFROM:-0500
TZOFFSETTO:-0400
TZNAME:EDT
DTSTART:20250309T070000
END:DAYLIGHT
BEGIN:STANDARD
TZOFFSETFROM:-0400
TZOFFSETTO:-0500
TZNAME:EST
DTSTART:20251102T060000
END:STANDARD
BEGIN:DAYLIGHT
TZOFFSETFROM:-0500
TZOFFSETTO:-0400
TZNAME:EDT
DTSTART:20260308T070000
END:DAYLIGHT
BEGIN:STANDARD
TZOFFSETFROM:-0400
TZOFFSETTO:-0500
TZNAME:EST
DTSTART:20261101T060000
END:STANDARD
END:VTIMEZONE
BEGIN:VEVENT
DTSTART;TZID=America/New_York:20250510T100000
DTEND;TZID=America/New_York:20250510T110000
DTSTAMP:20260424T010020
CREATED:20250430T112038Z
LAST-MODIFIED:20250430T112038Z
UID:4399-1746871200-1746874800@www.al-anon-lowcountry.org
SUMMARY:ABC Quarterly Business Meeting (May 2025)
DESCRIPTION:Al-Anon Beaufort County will be having our quarterly business meeting on Zoom. \nZoom ID: 869 0028 6587\nPasscode: 987123\nLink
URL:https://www.al-anon-lowcountry.org/calendar/abc-quarterly-business-meeting-may-2025/
LOCATION:Zoom
CATEGORIES:ABC Quarterly Business Meeting
ORGANIZER;CN="Al-Anon Beaufort County":MAILTO:webmaster@al-anon-lowcountry.org
END:VEVENT
END:VCALENDAR