BEGIN:VCALENDAR
VERSION:2.0
PRODID:-//SC District 6 AFG - ECPv6.15.18//NONSGML v1.0//EN
CALSCALE:GREGORIAN
METHOD:PUBLISH
X-WR-CALNAME:SC District 6 AFG
X-ORIGINAL-URL:https://www.al-anon-lowcountry.org
X-WR-CALDESC:Events for SC District 6 AFG
REFRESH-INTERVAL;VALUE=DURATION:PT1H
X-Robots-Tag:noindex
X-PUBLISHED-TTL:PT1H
BEGIN:VTIMEZONE
TZID:America/New_York
BEGIN:DAYLIGHT
TZOFFSETFROM:-0500
TZOFFSETTO:-0400
TZNAME:EDT
DTSTART:20230312T070000
END:DAYLIGHT
BEGIN:STANDARD
TZOFFSETFROM:-0400
TZOFFSETTO:-0500
TZNAME:EST
DTSTART:20231105T060000
END:STANDARD
BEGIN:DAYLIGHT
TZOFFSETFROM:-0500
TZOFFSETTO:-0400
TZNAME:EDT
DTSTART:20240310T070000
END:DAYLIGHT
BEGIN:STANDARD
TZOFFSETFROM:-0400
TZOFFSETTO:-0500
TZNAME:EST
DTSTART:20241103T060000
END:STANDARD
BEGIN:DAYLIGHT
TZOFFSETFROM:-0500
TZOFFSETTO:-0400
TZNAME:EDT
DTSTART:20250309T070000
END:DAYLIGHT
BEGIN:STANDARD
TZOFFSETFROM:-0400
TZOFFSETTO:-0500
TZNAME:EST
DTSTART:20251102T060000
END:STANDARD
END:VTIMEZONE
BEGIN:VEVENT
DTSTART;TZID=America/New_York:20240929T180000
DTEND;TZID=America/New_York:20240929T193000
DTSTAMP:20260424T091806
CREATED:20231026T103545Z
LAST-MODIFIED:20231201T152524Z
UID:3922-1727632800-1727638200@www.al-anon-lowcountry.org
SUMMARY:Fifth Sunday Potluck & Speaker
DESCRIPTION:Principles Above Personalities AFG will be hosting their regular 5th Sunday Potluck & Speaker meeting at the YANA Club on Hilton Head Island\, located at 107 Mathews Drive.  \nThe potluck is at 6:00pm\, attendees may bring a dish to share and the speaker meeting will begin at 6:30pm.
URL:https://www.al-anon-lowcountry.org/calendar/fifth-sunday-potluck-speaker-sep-29-2024/
LOCATION:YANA Club\, 107 Mathews Drive\, Hilton Head Island\, SC\, 29926\, United States
CATEGORIES:Potluck & Speaker Meeting
END:VEVENT
BEGIN:VEVENT
DTSTART;TZID=America/New_York:20240929T180000
DTEND;TZID=America/New_York:20240929T193000
DTSTAMP:20260424T091806
CREATED:20240910T135922Z
LAST-MODIFIED:20240910T135922Z
UID:4231-1727632800-1727638200@www.al-anon-lowcountry.org
SUMMARY:5th Sunday Speaker Potluck
DESCRIPTION:
URL:https://www.al-anon-lowcountry.org/calendar/5th-sunday-speaker-potluck/
LOCATION:YANA Club\, 107 Mathews Drive\, Hilton Head Island\, SC\, 29926\, United States
END:VEVENT
END:VCALENDAR